BEGIN:VCALENDAR
VERSION:2.0
PRODID:-//wp-events-plugin.com//7.2.3.1//EN
BEGIN:VEVENT
UID:3252@mnbeer.com
DTSTART:20180825T223000Z
DTEND:20180826T020000Z
DTSTAMP:20180720T134014Z
URL:https://www.mnbeer.com/events/10th-annual-summer-beer-dabbler/
SUMMARY:10th Annual Summer Beer Dabbler
DESCRIPTION:The Summer Beer Dabbler returns to CHS Field on August 25 to br
 ing you fun\, sun\, and\, most importantly\, beer from more than 140 local
  and national craft breweries.\n \nThe Summer Beer Dabbler will feature re
 gional favorites like Fulton Brewing\, Surly Brewing\, and Bent Paddle Bre
 wing\, as well as dozens of other national brands. Several breweries will 
 be joining the Summer Beer Dabbler for the very first time\, including Dua
 l Citizen Brewing\, Spiral Brewery\, Waldmann Brewery\, Warpigs\, Back Cha
 nnel Brewing\, Imminent Brewing\, Klockow Brewing\, Rustech Brewing\, and 
 Ale Asylum.\n \nGames\, activities\, live music\, and fireworks round out 
 this quintessential summer event.\n\nGeneral admission – $50 in advance\
 , $60 day of (if available)\nDesignated Driver – $20\nVery Important Dab
 bler – $70 (includes exclusive early access to the main event at 4:30pm)
 \n
CATEGORIES:Beer Festival,Breweries,Festival,Homebrew,Music,Tasting
LOCATION:CHS Field\, 360 N. Broadway St.\, St. Paul\, MN\, 55101\, United S
 tates
GEO:44.9511535;-93.0838784
X-APPLE-STRUCTURED-LOCATION;VALUE=URI;X-ADDRESS=360 N. Broadway St.\, St. P
 aul\, MN\, 55101\, United States;X-APPLE-RADIUS=100;X-TITLE=CHS Field:geo:
 44.9511535,-93.0838784
END:VEVENT
END:VCALENDAR