BEGIN:VCALENDAR
VERSION:2.0
PRODID:-//wp-events-plugin.com//7.2.3.1//EN
BEGIN:VEVENT
UID:3146@mnbeer.com
DTSTART;TZID=America/Chicago:20180519T113000
DTEND;TZID=America/Chicago:20180519T153000
DTSTAMP:20180425T140205Z
URL:https://www.mnbeer.com/events/12th-annual-brewers-bazaar/
SUMMARY:12th Annual Brewers Bazaar
DESCRIPTION:This is Stillwater's original beer tasting events. We believe i
 t to be one of the best in the Twin Cities and attendees and brewers agree
 . It was started and is hosted by the members of the Stillwater Sunrise Ro
 tary Club as a way to raise money for our many service projects. This year
 's Brewers Bazaar will once again be onboard the Avalon Riverboat overlook
 ing the beautiful St. Croix River in historic downtown Stillwater on Satur
 day\, May 19th. The boat does not leave the dock during the event giving a
 ttendees flexibility to come and go as they need. Your ticket gets you 4 h
 ours to sample some of the best and newest regional beers poured directly 
 from the brewers. In addition\, you get a commemorative pilsner glass\, a 
 food item and delicious cheese by the Bass Lake Cheese Factory. Participan
 ts love the setting\, the short lines\, the access to the brewers\, the fe
 llowship\, the music and the cause. Order your tickets at BrewersBazaar.co
 m\n\nList of the 21 brewers scheduled to be pouring their beer on the boat
 :\nLift Bridge Brewery\nSt Croix River Valley Homebrewers Assoc.\nBent Bre
 wstillery\n45th Parallel Distillery\nJoseph Wolf Brewery\nRoma Brewing\nLa
 ke Monster Brewing\nBig Wood Brewery\nOmni Brewing\nUrban Growler Brewing\
 nMaple Island Brewing\nSchells Brewery\nBarley Johns Brewing Company\nSt C
 roix Brewing Company\nSummit Brewing\nBent Paddle Brewing\nRush River Brew
 ing\nBurning Brothers Brewery\nFair State Brewery Coop\nPryes Brewing Comp
 any\nBig Axe Brewing\n\nThis list equated to over 80 different beers\, spi
 rits and a few wines. Your $45 ticket buys you access to each of them and 
 all decks of the boat.\n\nThe popular V.I.D. tickets are back again and av
 ailable for $75. V.I.D.s (Very Important Drinkers) have access to an exclu
 sive and designated area on the boat with snacks and beer delivered to you
 r table. VIDs will tell you it's worth the extra cost. Only a certain numb
 er of VID tickets will be issued.\n\nDesignated driver tickets for $15 are
  also available.\n\nWe realize there other beer events on this same day\, 
 but give the Brewers Bazaar a try - you won't be disappointed. Order your 
 tickets now at BrewersBazaar.com
ATTACH;FMTTYPE=image/jpeg:https://www.mnbeer.com/wp-content/uploads/BB_log
 o_2018-12th-Annual-Logo-700.jpg
CATEGORIES:Beer Festival
LOCATION:Avalon Riverboat\, 525 South Main Street\, Stillwater\, MN\, 55082
 \, United States
GEO:45.0610953;-92.80695830000002
X-APPLE-STRUCTURED-LOCATION;VALUE=URI;X-ADDRESS=525 South Main Street\, Sti
 llwater\, MN\, 55082\, United States;X-APPLE-RADIUS=100;X-TITLE=Avalon Riv
 erboat:geo:45.0610953,-92.80695830000002
END:VEVENT
BEGIN:VTIMEZONE
TZID:America/Chicago
X-LIC-LOCATION:America/Chicago
BEGIN:DAYLIGHT
DTSTART:20180311T030000
TZOFFSETFROM:-0600
TZOFFSETTO:-0500
TZNAME:CDT
END:DAYLIGHT
END:VTIMEZONE
END:VCALENDAR