BEGIN:VCALENDAR
VERSION:2.0
PRODID:-//wp-events-plugin.com//7.2.3.1//EN
BEGIN:VEVENT
UID:3448@mnbeer.com
DTSTART:20190518T163000Z
DTEND:20190518T203000Z
DTSTAMP:20190219T165912Z
URL:https://www.mnbeer.com/events/13th-annual-brewers-bourbon-bazaar/
SUMMARY:13th Annual Brewers &amp\; Bourbon Bazaar
DESCRIPTION:This is Stillwater's original beer tasting event and this year 
 we're adding a few spirits to the menu. We believe this to be one of the b
 est in the Twin Cities and attendees and brewers agree. It was started and
  is hosted by the members of the Stillwater Sunrise Rotary Club as a way t
 o raise money for our many service projects. We'll once again be aboard th
 e Avalon Riverboat overlooking the beautiful St. Croix River in historic d
 owntown Stillwater on Saturday\, May 18th from 11:30am to 3:30pm. The boat
  does not leave the dock during the event giving attendees flexibility to 
 come and go as they need. Your ticket gets you 4 hours to sample some of t
 he best and newest regional beers and spirits poured directly from the bre
 wers. In addition\, you get a commemorative pilsner glass\, a food item an
 d delicious cheese by the Bass Lake Cheese Factory. Participants love the 
 setting\, the short/no lines\, the access to the brewers\, the fellowship\
 , the music and the cause. Purchase tickets at BrewersBazaar.com
ATTACH;FMTTYPE=image/jpeg:https://www.mnbeer.com/wp-content/uploads/BB_log
 o_2019-13th-Annual-Logo-smaller.jpg
CATEGORIES:Beer Festival
LOCATION:Avalon Riverboat\, 525 South Main Street\, Stillwater\, MN\, 55082
 \, United States
X-APPLE-STRUCTURED-LOCATION;VALUE=URI;X-ADDRESS=525 South Main Street\, Sti
 llwater\, MN\, 55082\, United States;X-APPLE-RADIUS=100;X-TITLE=Avalon Riv
 erboat:geo:0,0
END:VEVENT
END:VCALENDAR