BEGIN:VCALENDAR
VERSION:2.0
PRODID:-//wp-events-plugin.com//7.2.3.1//EN
BEGIN:VEVENT
UID:1012@mnbeer.com
DTSTART:20150125T200000Z
DTEND:20150125T200000Z
DTSTAMP:20150107T215815Z
URL:https://www.mnbeer.com/events/16721/
SUMMARY:DMB/MBMC Beard Contest
DESCRIPTION:\n\n\nThe 2nd annual DMB/MBMC beard contest! 6 categories inclu
 ding Moustache\, Partial Beard\, Whiskerina\, Freestyle\, Dangerous Man Be
 ard\, and Full Beard (over 6 Inches). Overall winner wins 1 pint of DMB be
 er everyday for a year!! Trophies\, prizes\, glory.January is COLD but\, t
 his competition is gonna be HOT.\n\n$7 to get in at the door. Proceeds go 
 to Kody's Closet.\n\nYou will have to pre-register to compete. Total numbe
 r of competitors and total number of guests is limited. 40-50 competitors.
  100+ or so total guests allowed in DMB.\n\nPRE-registration is Monday Jan
  5th. You will need to fill out the quick PR form and wait to get a return
  confirmation email to be fully registered.\n\nThe 2nd annual DMB/MBMC bea
 rd contest! 6 categories including Moustache\, Partial Beard\, Whiskerina\
 , Freestyle\, Dangerous Man Beard\, and Full Beard (over 6 Inches). Overal
 l winner wins 1 pint of DMB beer everyday for a year!! Trophies\, prizes\,
  glory.\n\nJanuary is COLD but\, this competition is gonna be HOT.\n\n$7 t
 o get in at the door. Proceeds go to Kody's Closet.\n\n***Registration is 
 OVER for competitors***\n\nGood Luck to those who made it!!\n\nMore detail
 s will be shared soon so\, check back regularly for updates.\n\nMoustache 
 - A moustache. Styling aids are allowed. Use too much of your beard and yo
 u will get placed in Partial Beard. Judges look for style and magnificence
 .\n\nPartial Beard - Styling aids allowed. Anything not a full beard and n
 ot a moustache. Classic styles like Goatees\, Sideburns\, Musketeers (3-po
 int)\, Chinnies\, Donegals\, Imperials\, and any number of other things. J
 udges look for commitment to the look and magnificence.\n\nWhiskerina - Wo
 men's fake beards. Made out of whatever the artist feels like. Judges look
  for creativity and style.\n\nFreestyle - Styling aids allowed and anythin
 g goes. Craftsmanship and creativity score well here.\n\nFull Beard - Full
  Beard with some length. Aids allowed. Looking for power and manliness. Be
 ards with somewhere over 6 inches in length from the chin need apply here.
 \n\nDangerous Man Beard - A cross between Business Beard\, Verdi\, and gro
 omed beards with less then 6 or so inches in length from the lip. It's a d
 angerous category. Judges don't look for length as much as they do "danger
 ousness" which is a subjective term that the judges can wield in any way t
 hey choose.\n\n\n\n\n
ATTACH;FMTTYPE=image/jpeg:https://www.mnbeer.com/wp-content/uploads/beardo
 .jpg
CATEGORIES:Breweries
LOCATION:Dangerous Man Brewing\, 1300 2nd Street NE\, Minneapolis\, MN\, 55
 413\, United States
GEO:45.00420159999999;-93.26617149999998
X-APPLE-STRUCTURED-LOCATION;VALUE=URI;X-ADDRESS=1300 2nd Street NE\, Minnea
 polis\, MN\, 55413\, United States;X-APPLE-RADIUS=100;X-TITLE=Dangerous Ma
 n Brewing:geo:45.00420159999999,-93.26617149999998
END:VEVENT
END:VCALENDAR