BEGIN:VCALENDAR
VERSION:2.0
PRODID:-//wp-events-plugin.com//7.2.3.1//EN
BEGIN:VEVENT
UID:785@mnbeer.com
DTSTART:20140826T220000Z
DTEND:20140827T010000Z
DTSTAMP:20140801T152722Z
URL:https://www.mnbeer.com/events/2014-womens-equality-day-happy-hour/
SUMMARY:2014 Women's Equality Day Happy Hour
DESCRIPTION:Join Minnesota NOW members and like-minded friends on Women’s
  Equality Day. Celebrate Women’s Equality Day Happy Hour with us\, recog
 nize the gains we’ve made\, hear what more we need to do to achieve full
  equality and how you can help NOW.\n\nWe are excited to have this event a
 t Urban Growler Brewing in St. Paul\, the first woman-owned\, woman-brewed
  microbrewery in Minnesota!  Located in an historic building in the St. An
 thony Park area of St. Paul and opening soon\, you can hear their story\, 
 see the brew tanks\, and meet the owners.  More information about UGBC\, i
 ncluding descriptions of beer offerings\, is available on their website pa
 ge.\n\nDon't miss out on the pre-registration half-price rate. Or\, take a
 dvantage of our offer of event-related NOW membership promotions that incl
 ude a free event pass. 
CATEGORIES:Breweries,Charity,Education,Politics
LOCATION:Urban Growler Brewing Co.\, 2325 Endicott Street\, Saint Paul\, Mi
 nnesota\, 55114\, United States
GEO:44.9701949;-93.19336299999998
X-APPLE-STRUCTURED-LOCATION;VALUE=URI;X-ADDRESS=2325 Endicott Street\, Sain
 t Paul\, Minnesota\, 55114\, United States;X-APPLE-RADIUS=100;X-TITLE=Urba
 n Growler Brewing Co.:geo:44.9701949,-93.19336299999998
END:VEVENT
END:VCALENDAR