BEGIN:VCALENDAR
VERSION:2.0
PRODID:-//wp-events-plugin.com//7.2.3.1//EN
BEGIN:VEVENT
UID:1168@mnbeer.com
DTSTART:20150410T220000Z
DTEND:20150411T010000Z
DTSTAMP:20150330T185234Z
URL:https://www.mnbeer.com/events/2015-river-falls-roots-and-bluegrass-fes
 tivals-beer-and-wine-tasting/
SUMMARY:2015 River Falls Roots and Bluegrass Festival's Beer and Wine Tasti
 ng
DESCRIPTION:The River Falls Roots and Bluegrass Festival’s Beer and Wine 
 Tasting will take place on Friday\, April 10th from 5-8 pm at Junior’s B
 ar &amp\; Restaurant on 414 South Main St. in River Falls. Tickets are $20
  in advance and available at the Chamber Office\, DeVine Liquor\, Dick’s
 \, Hometown Liquor\, and Junior’s Bar &amp\; Restaurant. Otherwise $30 a
 t the door. For additional information\, interested parties can visit rive
 rfallsbluegrass.com or call (715)-425-2533. \n\nDetails of this year’s B
 eer and Wine Tasting include:\n\n•	4 Brothers Beer\n•	American Sky Bre
 wing Co.\n•	Milwaukee Brewing Co.\n•	Rush River Brewing Company\n•	S
 ummit Brewing Company\n•	65 Vines\n•	Door County Wine\n•	M’Shiraz\
 n•	Spurgeon Vineyards\n•	River Bend Vineyard and Winery\n•	Maiden Ro
 ck Winery and Cidery\n\nIn its fifth year\, the River Falls Roots and Blue
 grass Festival features a full weekend of free live music performances fro
 m regional acts. The 2015 Festival will run from Thursday\, April 9th thro
 ugh Sunday\, April 12th. \n
CATEGORIES:Tasting
LOCATION:Junior's Bar &amp\; Restaurant\, 414 South Main St.\, River Falls\
 , WI\, United States
GEO:44.8546816;-92.62792839999997
X-APPLE-STRUCTURED-LOCATION;VALUE=URI;X-ADDRESS=414 South Main St.\, River 
 Falls\, WI\, United States;X-APPLE-RADIUS=100;X-TITLE=Junior's Bar & Resta
 urant:geo:44.8546816,-92.62792839999997
END:VEVENT
END:VCALENDAR