BEGIN:VCALENDAR
VERSION:2.0
PRODID:-//wp-events-plugin.com//7.2.3.1//EN
BEGIN:VEVENT
UID:3278@mnbeer.com
DTSTART:20181013T180000Z
DTEND:20181013T220000Z
DTSTAMP:20181012T211952Z
URL:https://www.mnbeer.com/events/2018-fresh-hop-fest-and-fall-beer-showca
 se/
SUMMARY:2018 Fresh Hop Fest and Fall Beer Showcase
DESCRIPTION:Town Hall Lanes’ annual Fresh Hop Fest and Fall Beer Showcase
  is 1-5 p.m.\, Saturday\, October 13\, and features Town Hall’s own Fres
 h Hop 100\, along with 30 other fresh hop beers\, tasty bites and live mus
 ic.  \n\nBeer lovers can enjoy unlimited samples of fresh hop beers—avai
 lable only once a year\, after the Great Hop Harvest.\n\nFresh Hop Fest ta
 kes place at Town Hall Lanes\, 5019 34th Ave. S.\, Minneapolis. \nTickets 
 are available at: https://www.tempotickets.com/HopFest2018\n
CATEGORIES:Bars/Restaurants,Beer Festival,Breweries
LOCATION:Town Hall Lanes\, 5019 S 34th Ave\, Minneapolis\, MN\, United Stat
 es
GEO:44.911893;-93.22245799999996
X-APPLE-STRUCTURED-LOCATION;VALUE=URI;X-ADDRESS=5019 S 34th Ave\, Minneapol
 is\, MN\, United States;X-APPLE-RADIUS=100;X-TITLE=Town Hall Lanes:geo:44.
 911893,-93.22245799999996
END:VEVENT
END:VCALENDAR