BEGIN:VCALENDAR
VERSION:2.0
PRODID:-//wp-events-plugin.com//7.2.3.1//EN
BEGIN:VEVENT
UID:3264@mnbeer.com
DTSTART:20181013T170000Z
DTEND:20181014T040000Z
DTSTAMP:20180910T180623Z
URL:https://www.mnbeer.com/events/2018-oktoberfest/
SUMMARY:2018 Oktoberfest
DESCRIPTION:We’ll have live music\, food trucks will be onsite\, and best
  of all\, we’ll be tapping our annual Oktoberfest Märzen beer!\nPurchas
 e a commemorative .5 liter Oktoberfest stein for $20.00 and receive two be
 er tokens. We will also have a very limited number of Das Boots\, a 1 lite
 r boot shaped mugs for sale as well. Das Boots are $30\, including first f
 ill. Das Boots will only be filled with Oktoberfest for $8. Boots can only
  be purchased in the taproom.
ATTACH;FMTTYPE=image/jpeg:https://www.mnbeer.com/wp-content/uploads/oktboe
 rfest-social-small.jpg
CATEGORIES:Beer Festival
LOCATION:Lupulin Brewing Company\, 570 Humboldt Drive\, Suite 107\, Big Lak
 e\, MN\, 55309\, United States
GEO:45.3331421;-93.73350619999997
X-APPLE-STRUCTURED-LOCATION;VALUE=URI;X-ADDRESS=570 Humboldt Drive\, Suite 
 107\, Big Lake\, MN\, 55309\, United States;X-APPLE-RADIUS=100;X-TITLE=Lup
 ulin Brewing Company:geo:45.3331421,-93.73350619999997
END:VEVENT
END:VCALENDAR