BEGIN:VCALENDAR
VERSION:2.0
PRODID:-//wp-events-plugin.com//7.2.3.1//EN
BEGIN:VEVENT
UID:3408@mnbeer.com
DTSTART:20190504T120000Z
DTEND:20190504T220000Z
DTSTAMP:20190122T172116Z
URL:https://www.mnbeer.com/events/2019-big-wood-gears-and-beers-bike-tour/
SUMMARY:2019 Big Wood Gears and Beers Bike Tour
DESCRIPTION:Join us May 4\, 2019\, for the second annual Big Wood Gears & B
 eers Bike Tour! This fun ride will start and end at the award winning Big 
 Wood Brewery in White Bear Lake\, MN. The ride offers NEW routes of 25 and
  50 miles\, both of which ride on a combination of trail and gorgeous open
  roads of northern Washington County. Registration includes a T Shirt\, we
 ll stocked rest stops\, course maps\, and most importantly…a FREE BEER!O
 n the morning of the ride\, check in to Big Wood Brewery to get started an
 ytime between 7 and 9AM. **Please note\, all riders MUST wear a helmet on 
 this ride.**When you return to Big Wood Brewery\, enjoy a free beer (you d
 eserve it) order a bite from one of the many surrounding restaurants\, and
  relax in Big Wood's gorgeous taproom.https://www.facebook.com/events/3698
 75437139647/
LOCATION:Meet the Monster Athletics\, LLC\, Meet the Monster Athletics\, LL
 C\, 
X-APPLE-STRUCTURED-LOCATION;VALUE=URI;X-ADDRESS=Meet the Monster Athletics\
 , LLC\, ;X-APPLE-RADIUS=100;X-TITLE=Meet the Monster Athletics\, LLC:geo:0
 ,0
END:VEVENT
END:VCALENDAR