BEGIN:VCALENDAR
VERSION:2.0
PRODID:-//wp-events-plugin.com//7.2.3.1//EN
BEGIN:VEVENT
UID:3385@mnbeer.com
DTSTART:20190223T210000Z
DTEND:20190224T003000Z
DTSTAMP:20190122T171953Z
URL:https://www.mnbeer.com/events/2019-winter-beer-dabbler/
SUMMARY:2019 Winter Beer Dabbler
DESCRIPTION:❄️ The 10th Winter Beer Dabbler returns to the Mighty Midwa
 y at the Minnesota State Fairgrounds on February\, 23\, 2019. Don't miss t
 he biggest outdoor winter beer festival around! ❄️ #WinterDabblerhttps
 ://www.facebook.com/events/262106207831982/
LOCATION:The Beer Dabbler\, The Beer Dabbler\, 
X-APPLE-STRUCTURED-LOCATION;VALUE=URI;X-ADDRESS=The Beer Dabbler\, ;X-APPLE
 -RADIUS=100;X-TITLE=The Beer Dabbler:geo:0,0
END:VEVENT
END:VCALENDAR