BEGIN:VCALENDAR
VERSION:2.0
PRODID:-//wp-events-plugin.com//7.2.3.1//EN
BEGIN:VEVENT
UID:3389@mnbeer.com
DTSTART:20190227T230000Z
DTEND:20190228T020000Z
DTSTAMP:20190122T171953Z
URL:https://www.mnbeer.com/events/3rd-annual-chili-cook-off/
SUMMARY:3rd Annual Chili Cook Off
DESCRIPTION:Grey Face Rescue is hosting its 3rd Annual Chili Cook-Off and t
 his year we’re partnering with Beaver Island and Tending for a Cause! Fo
 r just $10\, enjoy samplings of all sorts of delicious chili made by local
  restaurants and businesses\, as well as some entrepreneurial individual c
 ooks. You will be competing to win hearts for People's Choice along with b
 ragging rights! Beaver Island will donate $1 from each pint sold\, along w
 ith any tips!WHENWednesday\, February 275:00 PM - 7:00 PMWHEREBeaver Islan
 d Brewing216 6th Ave S\, St Cloud\, MN 56301FEE$10 for all-you-can-eat chi
 li samples** This is a FREE event\, fee is only for those who would like t
 o sample chili\; otherwise\, Beaver Island allows food from other establis
 hments. ______________________________________________________WANT TO COMP
 ETE? See contestant details below!CONTESTANT DETAILSSetup: 4:00 PMTasting:
  5:00 - 7:00 PMWinners Announced: 7:30 PMRegistration Fees$25 per chili en
 teredREGISTER HERE: https://goo.gl/forms/56ER4a2mqhY2lHoZ2DEADLINE: Regist
 ration/payment should be sent in by February 20\, 2019! We will not accept
  registration after this registration date.Setup begins at 4:00 PM. You ar
 e asked to bring extension cords\, crock pots\, serving spoons\, sides (cr
 ackers\, cheese\, onions\, sour cream\, etc.). Breakdown will be at 7:00 P
 M. Winners will be announced at 7:30 SHARP! People’s Choice: Trophy & $1
 00 Gift CardBest Traditional Chili: Trophy & $50 Gift CardBest White Chili
 : Trophy & $50 Gift CardBest Vegetarian Chili: Trophy & $50 Gift CardGrey 
 Face Rescue will provide bowls\, spoons and napkins. _____________________
 _________________________________WANT TO SPONSOR?SPONSOR DETAILSSponsors a
 ssist in making our event a success and provide our winners with custom tr
 ophies specific to their winning category. Sponsorship Fee$100Sponsor here
 : https://goo.gl/forms/XTgJqO3cmeYlnuEn1Sponsors will be recognized throug
 h:- Website event page- Facebook page (5\,500+ followers)- Email Campaign 
 (2\,000+ contacts)- Signage at the eventWe look forward to seeing you! htt
 ps://www.facebook.com/events/473404049733780/
LOCATION:Beaver Island Brewing Company\, Beaver Island Brewing Company\, 
X-APPLE-STRUCTURED-LOCATION;VALUE=URI;X-ADDRESS=Beaver Island Brewing Compa
 ny\, ;X-APPLE-RADIUS=100;X-TITLE=Beaver Island Brewing Company:geo:0,0
END:VEVENT
END:VCALENDAR