BEGIN:VCALENDAR
VERSION:2.0
PRODID:-//wp-events-plugin.com//7.2.3.1//EN
BEGIN:VEVENT
UID:1922@mnbeer.com
DTSTART:20160924T190000Z
DTEND:20160925T043000Z
DTSTAMP:20160802T025744Z
URL:https://www.mnbeer.com/events/3rd-annual-co-optoberfest/
SUMMARY:3rd Annual Co-Optoberfest
DESCRIPTION:It’s time for the biggest party of the year at Fair State Bre
 wing Cooperative: Co-Optoberfest! Following our annual member-owner meetin
 g\, we’ll open to the public at 2pm to celebrate Fair State’s second b
 irthday Oktoberfest style! Join us as we turn our beer garden into a mini 
 Munich with Gerhard's Brats\, Aki's pretzels\, hammerschlagen\, oompah mus
 ic\, live screen printing\, and beer! Yes\, traditional lagers\, unique al
 es\, and of course... Festbier!
CATEGORIES:Breweries
LOCATION:Fair State Brewing Cooperative\, 2506 Central Ave\, Minneapolis\, 
 Minnesota\, 55418\, United States
GEO:45.0135573;-93.2477591
X-APPLE-STRUCTURED-LOCATION;VALUE=URI;X-ADDRESS=2506 Central Ave\, Minneapo
 lis\, Minnesota\, 55418\, United States;X-APPLE-RADIUS=100;X-TITLE=Fair St
 ate Brewing Cooperative:geo:45.0135573,-93.2477591
END:VEVENT
END:VCALENDAR