BEGIN:VCALENDAR
VERSION:2.0
PRODID:-//wp-events-plugin.com//7.2.3.1//EN
BEGIN:VEVENT
UID:3169@mnbeer.com
DTSTART:20180526T170000Z
DTEND:20180527T030000Z
DTSTAMP:20180502T163943Z
URL:https://www.mnbeer.com/events/4th-annual-bayou-beer-booze-crawfish-boi
 l/
SUMMARY:4th Annual Bayou\, Beer & Booze Crawfish Boil
DESCRIPTION:What are you doin’ on Memorial Day weekend? Skip the cabin…
 don’t fuss over your backyard BBQ. Leave the cookin’ and cleanin’ to
  Bent Brewstillery &amp\; Friends. We’re boilin’ hundreds of pounds of
  LIVE crawfish with corn &amp\; taters and more spices than you can shake 
 a craw daddy at. Also chefin’ up some Chicken &amp\; Sausage Jambalaya f
 or those not ready for the mud bug experience. Plate &amp\; Pint for $15 (
 while supplies last) PINCH A TAIL &amp\; SUCK A HEAD (optional…)\nChildr
 en\, furry or otherwise\, welcome. Hot dogs\, snow cones\, photo booth\, f
 ace painting.\n\nBent Brewstillery Cocktails served all day\, featuring Th
 e Minnesota Hurricane made with our StormBringer\, Barrel-Aged Spiced Rum!
ATTACH;FMTTYPE=image/jpeg:https://www.mnbeer.com/wp-content/uploads/Crawfi
 sh-Boil-2018-4x6_2.jpg
CATEGORIES:Beer Festival
LOCATION:Bent Brewstillery\, 1744 Terrace Drive\, Roseville\, MN\, 55113\, 
 United States
GEO:45.0256835;-93.17472379999998
X-APPLE-STRUCTURED-LOCATION;VALUE=URI;X-ADDRESS=1744 Terrace Drive\, Rosevi
 lle\, MN\, 55113\, United States;X-APPLE-RADIUS=100;X-TITLE=Bent Brewstill
 ery:geo:45.0256835,-93.17472379999998
END:VEVENT
END:VCALENDAR