BEGIN:VCALENDAR
VERSION:2.0
PRODID:-//wp-events-plugin.com//7.2.3.1//EN
BEGIN:VEVENT
UID:3410@mnbeer.com
DTSTART:20190518T170000Z
DTEND:20190519T020000Z
DTSTAMP:20190122T172116Z
URL:https://www.mnbeer.com/events/4th-annual-maibock-festival/
SUMMARY:4th Annual Maibock Festival
DESCRIPTION:SAVE THE DATE Our Maibock Helles Bock will be aplenty at our 4t
 h Annual Maibock Celebration. Join us at the BIBCo Taproom Saturday\, May 
 18\, 2019 12PM-9PM.Tickets will be on sale starting Thursday\, April 18. M
 ore details to come.https://www.facebook.com/events/1867780516602890/
LOCATION:Beaver Island Brewing Company\, Beaver Island Brewing Company\, 
X-APPLE-STRUCTURED-LOCATION;VALUE=URI;X-ADDRESS=Beaver Island Brewing Compa
 ny\, ;X-APPLE-RADIUS=100;X-TITLE=Beaver Island Brewing Company:geo:0,0
END:VEVENT
END:VCALENDAR