BEGIN:VCALENDAR
VERSION:2.0
PRODID:-//wp-events-plugin.com//7.2.3.1//EN
BEGIN:VEVENT
UID:748@mnbeer.com
DTSTART:20140719T160000Z
DTEND:20140720T030000Z
DTSTAMP:20140714T182030Z
URL:https://www.mnbeer.com/events/4th-annual-roots-rock-deep-blues-music-f
 estival-at-harriet-brewing/
SUMMARY:4th Annual - Roots\, Rock &amp\; Deep Blues Music Festival at Harri
 et Brewing
DESCRIPTION:Patrick’s Cabaret and Harriet Brewing present the 4th annual 
 Twin Cities' Roots\, Rock\, and Deep Blues Festival Lineup! This year\, th
 e all-day music marathon will be taking place on Saturday\, July 19 at Lak
 e Street and Minnehaha Avenue in the Longfellow community of South Minneap
 olis. Recently honored as “Best Rock Festival” by City Pages Best Of 2
 014 issue and “Best Block Party” in Star Tribune's Best of MN issue\, 
 this year’s installment will again boast 5 musical stages showcasing 30+
  local\, regional\, and national acts in a wide variety of styles and genr
 es. In addition\, this community event will feature local DJs\, dance perf
 ormance\, visual artists\, performance art\, craft foods and beverages.\n\
 nJuly 19\n12-10pm\nONLY $15 THRU JUNE\n$20 July/Gate\nRain or Shine\n\nThi
 s special event is an annual fundraiser for the 28 year-old nonprofit perf
 ormance venue and community arts organization\, Patrick's Cabaret\, and is
  entirely volunteer run. In addition to supporting local businesses and ar
 tists\, the revenue generated by this event goes towards continuing the va
 luable year-round arts programming that Patrick's Cabaret provides the com
 munity: The Singer/Songwriter Series\, The High School Cabaret Program\, T
 he Open Call Cabaret Program\, The Calof Series\, and more. New to the eve
 nt this year is an Indiegogo crowd-sourced funding campaign (running throu
 gh June 10) to help raise money for festival expenses. Those who donate to
  the fundraising campaign at the $20 level can secure an advance ticket fo
 r this summer’s event\, making your 2014 festival experience tax deducti
 ble! https://www.indiegogo.com/projects/roots-rock-and-deep-blues-festival
 -2014\n\n2014 Twin Cities’ Roots\, Rock\, and Deep Blues Festival Lineup
 :\nSonny Knight &amp\; The Lakers\nThe Black Eyed Snakes\nKent Burnside &a
 mp\; The New Generation (MS)\nBlack Market Brass\nCrankshaft &amp\; The Ge
 ar Grinders\nErik Koskinen Band\nSans Souci\nMrs Glass (TX)\nCarson McHone
  (TX)\nSpider John Koerner\nEleganza\nMike Guenther\nThe 757’s\nThe Floo
 d Brothers (MO)\nThe Dead Pigeons\nBlack Diet\nMolly Maher &amp\; Her Disb
 elievers\nJoe &amp\; Vicki Price (IA)\nSTNNNG\nDirt Road Ramblers\nKitten 
 Forever\nBen Balinger (TX)\nNikki &amp\; The Ruemates\nMolly Dean\nJeff Ra
 y &amp\; Hurricane Harold\nCrooked Saws\nJack Klatt\nLone Wolf OMB\nAudiyo
  Element\nBernie King &amp\; The Guilty Pleasures\nNikki &amp\; The RueMat
 es\n\nFood Trucks:\nCajun 2 Geaux\nGogi Bros.\nDelicious Nutritious Grub\n
 Seven Sushi\nNatedogs\n\nTICKETS ON-SALE NOW\nGeneral Admission Tickets: $
 20.00 Tickets available at Harriet Brewing\, Patrick’s Cabaret and onlin
 e at www.rootsrockdeepblues.com\n
ATTACH;FMTTYPE=image/jpeg:https://www.mnbeer.com/wp-content/uploads/RRDB14
 -625x400.jpg
CATEGORIES:Art,Festival,Foodie,Music
LOCATION:Harriet Brewing\, 3036 Minnehaha\, Minneapolis\, MN\, 55406\, Unit
 ed States
GEO:44.94724311447935;-93.23389185767212
X-APPLE-STRUCTURED-LOCATION;VALUE=URI;X-ADDRESS=3036 Minnehaha\, Minneapoli
 s\, MN\, 55406\, United States;X-APPLE-RADIUS=100;X-TITLE=Harriet Brewing:
 geo:44.94724311447935,-93.23389185767212
END:VEVENT
END:VCALENDAR