BEGIN:VCALENDAR
VERSION:2.0
PRODID:-//wp-events-plugin.com//7.2.3.1//EN
BEGIN:VEVENT
UID:3142@mnbeer.com
DTSTART:20180505T160000Z
DTEND:20180505T190000Z
DTSTAMP:20180425T140204Z
URL:https://www.mnbeer.com/events/56-brewing-beer-run/
SUMMARY:56 Brewing BEER RUN!
DESCRIPTION:We are the Minnesota Brewery Running Series and we run for beer
 !\n\nJoin us at 56 Brewing on Sunday\, May 6th @ 11AM for a 5k-ish course 
 that starts and ends at the new tap room\, coincidentally planned to be on
  May 6th...5/6...for 56 Brewing...get it!?! Weave through the surrounding 
 area at whatever pace you like\, no matter what there’s a beer waiting f
 or you at the finish line!\n\nWe are all about being active\, having fun a
 nd giving back to our local community. Since our inaugural event in 2012\,
  we have been able to donate over $70\,000 back to local non-profits. This
  event will add to that tally! +10% of all revenue goes directly to local 
 non-profits!\n\nWhat’s included?! All participants receive a FREE craft 
 brew from the brewery and get to take home a collectors pint glass or seas
 onal swag item from the Brewery Running Series...plus swag\, goodies and g
 iveaways from our partners and sponsors + chance to win sweet door prizes 
 and more free beer! Your registration also earns you an invitation to stic
 k around and enjoy the day’s entertainment: live music\, food offerings\
 , local vendors\, and fun with our sponsors.\n\nRegistration is limited\, 
 so sign up today! https://www.eventsprout.com/event/56
ATTACH;FMTTYPE=image/jpeg:https://www.mnbeer.com/wp-content/uploads/121918
 37_912542098841881_6677965585015043568_n-2.png
CATEGORIES:Breweries
LOCATION:56 Brewing\, 3055 Northeast Columbia Avenue #Suite 102\, Minneapol
 is\, MN\, United States
GEO:45.0236172;-93.27210819999999
X-APPLE-STRUCTURED-LOCATION;VALUE=URI;X-ADDRESS=3055 Northeast Columbia Ave
 nue #Suite 102\, Minneapolis\, MN\, United States;X-APPLE-RADIUS=100;X-TIT
 LE=56 Brewing:geo:45.0236172,-93.27210819999999
END:VEVENT
END:VCALENDAR