BEGIN:VCALENDAR
VERSION:2.0
PRODID:-//wp-events-plugin.com//7.2.3.1//EN
BEGIN:VEVENT
UID:3413@mnbeer.com
DTSTART:20190122T110000Z
DTEND:20190127T210000Z
DTSTAMP:20190123T180526Z
URL:https://www.mnbeer.com/events/5th-anniversary-party-weekend/
SUMMARY:5th Anniversary Party Weekend
DESCRIPTION:We're so grateful to be celebrating 5 years and we owe much to 
 you\, all our supporters. It's passion that drives us\, and we've learned 
 many lessons over the years and we have more to go. It's exciting to see h
 ow everything has led up to this day. We've got some extra fun packed in f
 or the entire week\, so please\, stop in\, say hi and celebrate with us!\n
 \nWe'll have our barrel aged Russian Imperial Stout (aged 2 years) release
 d at the beginning of the week\, along with a limited run of bottles.\n\nT
 UESDAY\n$5 Leonard Day IPA\n$5 Devils on Horseback\n$5 Knots (4 pack)\n$5 
 small 1-topping pizza!\nNEW: Buffalo Chicken Sandwich Special\n\nWEDNESDAY
 \n$5 Citra Pale Ale\n$5 Manhattans\n$5 Knots (4 pack)\n$5 small 1-topping 
 pizza\nNEW: Cow Man Burger Special\n\nTHURSDAY\n$5 Frank’s Red Ale\n$5 D
 aiquiris\n$5 Knots\n$5 small 1-topping pizza\nNEW: Leviathan Elk Burger Sp
 ecial\n\nFRIDAY\n$5 Stadium Blonde Ale\n$5 Frank’s Red\n$5 Knots (4 pack
 )\n$5 small 1-topping pizza\nNEW: Chicken Parm Sandwich\nFree Music: Corey
  Medina 7pm\n\nSATURDAY\n$5 Frank's Red Ale\n$5 Stadium Blonde\n$5 Knots\n
 $5 small 1-topping pizza (add’l toppings extra)\nFree Music: Sessions Dr
 um and Bass\n\nSUNDAY\n$5 Frank’s Red Ale\n$5 Knots (4 pack)\n$5 Dessert
 s - Carrot Cake\, Mousse\, Bread pudding soufflé\n$15 Bottomless Bloody\,
  Mimosas - all day\nBACON RAFFLE - Early Afternoon!\n\n\nhttps://www.faceb
 ook.com/events/375316283032607/
LOCATION:Day Block Brewing Company\, 1105 S Washington Ave\, Minneapolis\, 
 MN\, 55415\, United States
GEO:44.9752724;-93.25301100000001
X-APPLE-STRUCTURED-LOCATION;VALUE=URI;X-ADDRESS=1105 S Washington Ave\, Min
 neapolis\, MN\, 55415\, United States;X-APPLE-RADIUS=100;X-TITLE=Day Block
  Brewing Company:geo:44.9752724,-93.25301100000001
END:VEVENT
END:VCALENDAR