BEGIN:VCALENDAR
VERSION:2.0
PRODID:-//wp-events-plugin.com//7.2.3.1//EN
BEGIN:VEVENT
UID:3412@mnbeer.com
DTSTART:20190921T170000Z
DTEND:20190922T020000Z
DTSTAMP:20190122T172116Z
URL:https://www.mnbeer.com/events/5th-annual-oktoberfest/
SUMMARY:5th Annual Oktoberfest
DESCRIPTION:SAVE THE DATEOur Oktoberfest Märzen Lager will be flowing at o
 ur 5th Annual Oktoberfest Celebration. Join us at the BIBCo Taproom Saturd
 ay\, September 21\, 2019 12PM-9PM.Tickets go on sale Thursday\, August 1. 
 More details to come.https://www.facebook.com/events/1868976093184423/
LOCATION:Beaver Island Brewing Company\, Beaver Island Brewing Company\, 
X-APPLE-STRUCTURED-LOCATION;VALUE=URI;X-ADDRESS=Beaver Island Brewing Compa
 ny\, ;X-APPLE-RADIUS=100;X-TITLE=Beaver Island Brewing Company:geo:0,0
END:VEVENT
END:VCALENDAR