BEGIN:VCALENDAR
VERSION:2.0
PRODID:-//wp-events-plugin.com//7.2.3.1//EN
BEGIN:VEVENT
UID:1156@mnbeer.com
DTSTART:20151010T183000Z
DTEND:20151010T223000Z
DTSTAMP:20150313T184801Z
URL:https://www.mnbeer.com/events/8th-annual-veterans-benefit/
SUMMARY:8th Annual Veteran's Benefit
DESCRIPTION:Vietnam Veterans of America (V.V.A.)\, Chapter 639 of South St.
  Paul\, along with Bugg’s Place are hosting our 8th annual Veteran's ben
 efit with proceeds going to The Highground Memorial (www.thehighground.org
 )\, which serves all Veterans and their families.  \n\nBenefit Info:\n\nSa
 turday\, October 10\, 2015\n\n1:30 – 5:00 p.m.\n\nBugg’s Place\n925 N 
 Concord\nSouth St. Paul\, MN 55075\n\n*Food\, Games\, Silent Auction\, Pul
 l Tabs \nand more*\n
CATEGORIES:Charity
LOCATION:Buggs Place\, 925 N Concord\, South St. Paul\, Minnesota\, 55075\,
  United States
GEO:44.8758708;-93.03050710000002
X-APPLE-STRUCTURED-LOCATION;VALUE=URI;X-ADDRESS=925 N Concord\, South St. P
 aul\, Minnesota\, 55075\, United States;X-APPLE-RADIUS=100;X-TITLE=Buggs P
 lace:geo:44.8758708,-93.03050710000002
END:VEVENT
END:VCALENDAR