BEGIN:VCALENDAR
VERSION:2.0
PRODID:-//wp-events-plugin.com//7.2.3.1//EN
BEGIN:VEVENT
UID:3167@mnbeer.com
DTSTART:20180520T180000Z
DTEND:20180520T190000Z
DTSTAMP:20180502T135955Z
URL:https://www.mnbeer.com/events/all-grain-201-advanced-mashing-technique
 s-2/
SUMMARY:All-Grain 201 - Advanced Mashing Techniques
DESCRIPTION:Level up your All-Grain techniques and brew better beer! Our Al
 l-Grain experts will go beyond the basic concepts of all grain brewing and
  show you how to customize and dial into your mash. You’ll how learn the
  process of step infusion mashing and decoctions with hands-on demonstrati
 ons from the pros. By the end of the class\, you’re guaranteed to leave 
 with plenty of ideas for adjusting your mash and crafting a beer that is t
 ruly your own.\n\nInfo: http://nbrew.me/allgr7f65f
CATEGORIES:Homebrew
LOCATION:Northern Brewer\, 6012 Lyndale Avenue South\, Minneapolis\, MN\, 5
 5419\, United States
GEO:44.8934989;-93.28960569999998
X-APPLE-STRUCTURED-LOCATION;VALUE=URI;X-ADDRESS=6012 Lyndale Avenue South\,
  Minneapolis\, MN\, 55419\, United States;X-APPLE-RADIUS=100;X-TITLE=North
 ern Brewer:geo:44.8934989,-93.28960569999998
END:VEVENT
END:VCALENDAR