BEGIN:VCALENDAR
VERSION:2.0
PRODID:-//wp-events-plugin.com//7.2.3.1//EN
BEGIN:VEVENT
UID:751@mnbeer.com
DTSTART:20140726T050000Z
DTEND:20140727T000000Z
DTSTAMP:20140715T033525Z
URL:https://www.mnbeer.com/events/all-pints-north/
SUMMARY:All Pints North
DESCRIPTION:The Minnesota Craft Brewers Guild’s All Pints North Summer Be
 er Festival returns Bayfront Festival Park for a third year in July. This 
 festival is put on by the same folks that bring you Winterfest and Autumn 
 Brew Review. More importantly\, this festival is in Duluth\, so I highly r
 ecommend that you make a weekend out of it and enjoy the North Shore\, its
  breweries and attractions. $35-45
ATTACH;FMTTYPE=image/jpeg:https://www.mnbeer.com/wp-content/uploads/2012/0
 4/allpintsnorth-e1347067751824.jpg
CATEGORIES:Beer Festival
LOCATION:Bayfront Festival Park\, 350 Harbor Dr.\, Duluth\, MN\, 55802\, St
 . Louis \, United States
GEO:46.779430;-92.098816
X-APPLE-STRUCTURED-LOCATION;VALUE=URI;X-ADDRESS=350 Harbor Dr.\, Duluth\, M
 N\, 55802\, St. Louis \, United States;X-APPLE-RADIUS=100;X-TITLE=Bayfront
  Festival Park:geo:46.779430,-92.098816
END:VEVENT
END:VCALENDAR