BEGIN:VCALENDAR
VERSION:2.0
PRODID:-//wp-events-plugin.com//7.2.3.1//EN
BEGIN:VEVENT
UID:3392@mnbeer.com
DTSTART:20190309T180000Z
DTEND:20190309T230000Z
DTSTAMP:20190122T171953Z
URL:https://www.mnbeer.com/events/arctic-market/
SUMMARY:Arctic Market
DESCRIPTION:Minneapolis Craft Market returns to Lakes & Legends Brewing Com
 pany in downtown Minneapolis. Join us at the beautiful 3\,500 sq ft Loring
  Park tap room to visit with local artists while sipping delicious farm-to
 -table beers.Featuring a lineup of 30 local makers selling jewelry\, woodw
 ork\, home goods\, apparel\, and other handcrafted items\, you'll find you
 r new favorite treasures at the market.MAKERSMaker list coming soon!PARKIN
 G There are lots of easy parking options for the event: - Three hours of p
 arking for $3 at the Hyatt/Loring ramp at the end of the block. Enter on G
 rant/Nicollet. **Collect a validation ticket at the bar to receive the dis
 count.**- The first hour of parking free in the parking ramp above the tap
 room. Enter on 14th St. **Collect a validation ticket at the bar to receiv
 e the discount.**- Local parking meters which are not in operation on week
 ends.ABOUT MINNEAPOLIS CRAFT MARKETWe are the Twin Cities’ mobile market
 place dedicated to crafts. The market features a rotating selection of han
 dcrafted goods by designers and makers of the North. Maker applications ar
 e accepted year-round at mplscraftmarket.comPhoto: Tina Lilja\, photo by K
 ianna Notermannhttps://www.facebook.com/events/1484028225033124/
LOCATION:Minneapolis Craft Market\, Minneapolis Craft Market\, 
X-APPLE-STRUCTURED-LOCATION;VALUE=URI;X-ADDRESS=Minneapolis Craft Market\, 
 ;X-APPLE-RADIUS=100;X-TITLE=Minneapolis Craft Market:geo:0,0
END:VEVENT
END:VCALENDAR