BEGIN:VCALENDAR
VERSION:2.0
PRODID:-//wp-events-plugin.com//7.2.3.1//EN
BEGIN:VEVENT
UID:621@mnbeer.com
DTSTART:20140531T210000Z
DTEND:20140531T210000Z
DTSTAMP:20140326T045035Z
URL:https://www.mnbeer.com/events/artcrank/
SUMMARY:Artcrank
DESCRIPTION:Born and bred in Minneapolis starting back in 2007\, ARTCRANK i
 s a bicycle poster art show featuring works from Twin Cities’ artists. 
  The show returns to Minneapolis for an 8th year with an opening at Shelte
 r Studios in Northeast Minneapolis. Check it out.
ATTACH;FMTTYPE=image/jpeg:https://www.mnbeer.com/wp-content/uploads/artcra
 nk.jpg
CATEGORIES:Art
LOCATION:Shelter Studios\, 721 Harding Street Northeast\, Minneapolis\, MN\
 , United States
GEO:44.997356;-93.221092
X-APPLE-STRUCTURED-LOCATION;VALUE=URI;X-ADDRESS=721 Harding Street Northeas
 t\, Minneapolis\, MN\, United States;X-APPLE-RADIUS=100;X-TITLE=Shelter St
 udios:geo:44.997356,-93.221092
END:VEVENT
END:VCALENDAR