BEGIN:VCALENDAR
VERSION:2.0
PRODID:-//wp-events-plugin.com//7.2.3.1//EN
BEGIN:VEVENT
UID:743@mnbeer.com
DTSTART:20140712T160000Z
DTEND:20140712T220000Z
DTSTAMP:20140709T023040Z
URL:https://www.mnbeer.com/events/arts-drafts-summer-celebration-of-the-ar
 ts/
SUMMARY:Arts &amp\; Drafts Summer Celebration of the Arts
DESCRIPTION:Craft Beer coming to an Art Fair near you! Friends\, we are joi
 ning up with a fantastic place in Red Wing to provide Music\, Theatre\, ov
 er 100 artists\, Great Food and of course CRAFT BEER. Journey through the 
 sculpture gardens while sipping your choice brews! First 200 to the Beer G
 arden get a commemorative glass (it's a real 12oz beer glass) to enjoy all
  you can drink craft beer for $20. Featuring brews from Fulton (new beer!)
 \, Indeed\, Bad Weather (new beer!)\, Big Wood\, Flat Earth\, Fytenburg Fa
 mily (new beer and its a SOUR!)\, Lift Bridge\, Rush River\, Summit\, Bent
  Brewstillery and More!!!\n\nhttp://facebook.com/ArtsDrafts
ATTACH;FMTTYPE=image/jpeg:https://www.mnbeer.com/wp-content/uploads/ArtsDr
 afts-Logo-sq-copysm.png
CATEGORIES:Beer Festival
LOCATION:Anderson Center at Tower View\, Tower View Dr\, Red Wing\, MN\, 55
 066\, United States
GEO:44.56967389127959;-92.63770746137698
X-APPLE-STRUCTURED-LOCATION;VALUE=URI;X-ADDRESS=Tower View Dr\, Red Wing\, 
 MN\, 55066\, United States;X-APPLE-RADIUS=100;X-TITLE=Anderson Center at T
 ower View:geo:44.56967389127959,-92.63770746137698
END:VEVENT
END:VCALENDAR