BEGIN:VCALENDAR
VERSION:2.0
PRODID:-//wp-events-plugin.com//7.2.3.1//EN
BEGIN:VEVENT
UID:3224@mnbeer.com
DTSTART:20180606T160000Z
DTEND:20180630T170000Z
DTSTAMP:20180518T125941Z
URL:https://www.mnbeer.com/events/ascend-into-all-grain-where-to-start/
SUMMARY:Ascend into All-grain: Where to Start
DESCRIPTION:Making the move to All-Grain Brewing is a rite of passage to be
  celebrated! But a little trepidation is only natural. Our expert All Grai
 n gurus will show you how to ditch the dread and learn how to mash\, laute
 r and sparge with complete confidence. Build on your extract brewing skill
 s\, or learn from the ground up with practical tips and hands-on demos fro
 m the pros. Plus\, receive 15% off the purchase of all grain equipment and
  ingredients.\n\nSign Up Here:\nhttps://www.eventbrite.com/e/ascend-into-a
 ll-grain-where-to-start-tickets-44602844308?aff=mnbeer
CATEGORIES:Homebrew
LOCATION:Northern Brewer - St. Paul\, 1150 Grand Ave\, St. Paul\, Minnesota
 \, 55105\, United States
GEO:44.9333345;-93.34125289999997
X-APPLE-STRUCTURED-LOCATION;VALUE=URI;X-ADDRESS=1150 Grand Ave\, St. Paul\,
  Minnesota\, 55105\, United States;X-APPLE-RADIUS=100;X-TITLE=Northern Bre
 wer - St. Paul:geo:44.9333345,-93.34125289999997
END:VEVENT
END:VCALENDAR