BEGIN:VCALENDAR
VERSION:2.0
PRODID:-//wp-events-plugin.com//7.2.3.1//EN
BEGIN:VEVENT
UID:3253@mnbeer.com
DTSTART;VALUE=DATE:20180810
DTEND;VALUE=DATE:20180811
DTSTAMP:20180724T184537Z
URL:https://www.mnbeer.com/events/australian-sparkling-ale-release/
SUMMARY:Australian Sparkling Ale Release
DESCRIPTION:Come get your Aussie on with us Friday\, August 10\, as we laun
 ch our highly anticipated Australian Sparkling Ale\, aptly named Aussie Al
 e. Inspired by our Australian brewery manager\, Scott\, this ale starts wi
 th Centennial hops to create a subtle floral base then finishes with Galax
 y hops to layer in notes of citrus and passion fruit-creating a sparkling 
 masterpiece.
ATTACH;FMTTYPE=image/jpeg:https://www.mnbeer.com/wp-content/uploads/Schram
 Logo-01.png
CATEGORIES:Beer Release
LOCATION:Schram Vineyards Winery &amp\; Brewery\, 8785 Airport Rd\, Waconia
 \, MN\, 55387\, United States
GEO:44.8439878;-93.7447929
X-APPLE-STRUCTURED-LOCATION;VALUE=URI;X-ADDRESS=8785 Airport Rd\, Waconia\,
  MN\, 55387\, United States;X-APPLE-RADIUS=100;X-TITLE=Schram Vineyards Wi
 nery & Brewery:geo:44.8439878,-93.7447929
END:VEVENT
END:VCALENDAR