BEGIN:VCALENDAR
VERSION:2.0
PRODID:-//wp-events-plugin.com//7.2.3.1//EN
BEGIN:VEVENT
UID:1105@mnbeer.com
DTSTART:20150325T210000Z
DTEND:20150326T010000Z
DTSTAMP:20150218T191246Z
URL:https://www.mnbeer.com/events/bad-weather-2nd-anniversary-party/
SUMMARY:Bad Weather 2nd Anniversary Party
DESCRIPTION:To celebrate the local brewery's move to Saint Paul and 2nd Ann
 iversary we will be hosting a party for them.  This will be downstairs in 
 the bar area.  We will be tapping several infused versions of Ominous.  Va
 rieties will include coffee\, vanilla\, and bourbon oak.  We will also Fir
 efly Rye on hand.  \n
ATTACH;FMTTYPE=image/jpeg:https://www.mnbeer.com/wp-content/uploads/BWBC_N
 o_Background-300x2001.jpg
CATEGORIES:Beer Release
LOCATION:The Happy Gnome\, 498 Selby Avenue\, Saint Paul\, Minnesota\, 5510
 4\, United States
GEO:44.946357;-93.12101710000002
X-APPLE-STRUCTURED-LOCATION;VALUE=URI;X-ADDRESS=498 Selby Avenue\, Saint Pa
 ul\, Minnesota\, 55104\, United States;X-APPLE-RADIUS=100;X-TITLE=The Happ
 y Gnome:geo:44.946357,-93.12101710000002
END:VEVENT
END:VCALENDAR