BEGIN:VCALENDAR
VERSION:2.0
PRODID:-//wp-events-plugin.com//7.2.3.1//EN
BEGIN:VEVENT
UID:742@mnbeer.com
DTSTART:20140830T210000Z
DTEND:20140831T053000Z
DTSTAMP:20140709T022606Z
URL:https://www.mnbeer.com/events/bank-brewing-co-presents-labor-day-beer-
 bash/
SUMMARY:Bank Brewing Co presents Labor Day Beer Bash
DESCRIPTION:Labor Day beer bash is a street party and beer garden with musi
 c and food.\nHeadlining band is Roxbury Drive to play the street party sta
 rting at 8:30 PM. Carlson and Johnson Band to play the brewery 6-8PM. Open
 ing band to be announced for the 4:00PM start.\nFood is available for purc
 hase as well as the Beer Garden.\nEntertainment is free\nBeer Garden opens
  at 3
ATTACH;FMTTYPE=image/jpeg:https://www.mnbeer.com/wp-content/uploads/taproo
 m.jpg
CATEGORIES:Breweries
LOCATION:Bank Brewing Co\, 218 South Main Street\, Hendricks\, MN\, 56136\,
  United States
GEO:44.505878;-96.425896
X-APPLE-STRUCTURED-LOCATION;VALUE=URI;X-ADDRESS=218 South Main Street\, Hen
 dricks\, MN\, 56136\, United States;X-APPLE-RADIUS=100;X-TITLE=Bank Brewin
 g Co:geo:44.505878,-96.425896
END:VEVENT
END:VCALENDAR