BEGIN:VCALENDAR
VERSION:2.0
PRODID:-//wp-events-plugin.com//7.2.3.1//EN
BEGIN:VEVENT
UID:1900@mnbeer.com
DTSTART:20160720T220000Z
DTEND:20160721T000000Z
DTSTAMP:20160708T134044Z
URL:https://www.mnbeer.com/events/barly-johns-dark-knight-release/
SUMMARY:Barly John's Dark Knight Release
DESCRIPTION:Join us for the tapping of Barley John's Dark Knight. One of on
 ly 4 kegs available\, this rare beer will go fast. This award winning 13% 
 Imperial Porter is sure to please. Other Barley John's available include t
 he Double Mango Pale Ale and Con'gnome the Barbarian\, a 10.1% Imperial IP
 A.
ATTACH;FMTTYPE=image/jpeg:https://www.mnbeer.com/wp-content/uploads/Northb
 ound_Smokehouse_Logo.png
CATEGORIES:Brewpubs
LOCATION:Northbound Smokehouse Brewpub\, 2716 E 38th Street\, Minneapolis\,
  MN\, United States
GEO:44.934299;-93.232498
X-APPLE-STRUCTURED-LOCATION;VALUE=URI;X-ADDRESS=2716 E 38th Street\, Minnea
 polis\, MN\, United States;X-APPLE-RADIUS=100;X-TITLE=Northbound Smokehous
 e Brewpub:geo:44.934299,-93.232498
END:VEVENT
END:VCALENDAR