BEGIN:VCALENDAR
VERSION:2.0
PRODID:-//wp-events-plugin.com//7.2.3.1//EN
BEGIN:VEVENT
UID:1010@mnbeer.com
DTSTART;VALUE=DATE:20150216
DTEND;VALUE=DATE:20150222
DTSTAMP:20150107T214841Z
URL:https://www.mnbeer.com/events/barrel-aged-week-2/
SUMMARY:Barrel Aged Week
DESCRIPTION:Six days of big\, beautiful\, barrel aged beers from Town Hall 
 Brewery. At least one release every day Monday - Saturday\, with beers lik
 e Czar Jack Imperial Stout and Buffalo Bock Weizebock.\n\nThis year\, we'l
 l be selling the barrel aged series in our new 750mL mini growlers. We wil
 l pre-sell tickets for these mini's on Sunday\, February 8th at 10AM at th
 e Brewery.\n\nBuy five mini growlers of barrel aged Town Hall beer\, and y
 ou'll be entered to win a Pint Club membership!
ATTACH;FMTTYPE=image/jpeg:https://www.mnbeer.com/wp-content/uploads/2010/0
 1/barrels.jpg
LOCATION:Minneapolis Town Hall Brewery\, 1430 Washington Avenue South\, Min
 neapolis\, MN\, United States
GEO:44.9733315;-93.24778570000001
X-APPLE-STRUCTURED-LOCATION;VALUE=URI;X-ADDRESS=1430 Washington Avenue Sout
 h\, Minneapolis\, MN\, United States;X-APPLE-RADIUS=100;X-TITLE=Minneapoli
 s Town Hall Brewery:geo:44.9733315,-93.24778570000001
END:VEVENT
END:VCALENDAR