BEGIN:VCALENDAR
VERSION:2.0
PRODID:-//wp-events-plugin.com//7.2.3.1//EN
BEGIN:VEVENT
UID:3380@mnbeer.com
DTSTART:20190217T220000Z
DTEND:20190218T020000Z
DTSTAMP:20190122T171952Z
URL:https://www.mnbeer.com/events/beard-bars-beer/
SUMMARY:Beard & Bars & Beer
DESCRIPTION:A Beard & Bars competition like no other... probably.  Bring yo
 ur best fruity\, chocolate\, or layered bars and make sure your facial hai
 r is on point as both will be judged in true midwest fashion!The Brick Ove
 n Bus will be serving up delicious wood fired pizzas starting at 3pm!Prize
 s will be awarded for bars in the following categories: Fruity\, Chocolate
 \, and Layered\, showing at least three distinct layers.Prizes for facial 
 hair will be awarded in the following categories: Partial Beard\, Full Bea
 rd\, Freestyle/Styled Beard or Mustache\, Mustache Natural\, and for fun t
 he Five O'clock Shadow. To enter the Five O'clock Shadow you must present 
 a time stamped photo of you clean shaven NO EARLIER than 6am on the day of
  the competition Hosted by South of the River Facial ClubSponsored by The 
 Lakeville Barbers\, Angry Inch Brewing\, Impact Auto Repair\, Mainstreet C
 offee & Wine Bar\, Torched 304 Decor\, Grey Duck Studio MNhttps://www.face
 book.com/events/280591302605122/
LOCATION:Angry Inch Brewing\, Angry Inch Brewing\, 
X-APPLE-STRUCTURED-LOCATION;VALUE=URI;X-ADDRESS=Angry Inch Brewing\, ;X-APP
 LE-RADIUS=100;X-TITLE=Angry Inch Brewing:geo:0,0
END:VEVENT
END:VCALENDAR