BEGIN:VCALENDAR
VERSION:2.0
PRODID:-//wp-events-plugin.com//7.2.3.1//EN
BEGIN:VEVENT
UID:3143@mnbeer.com
DTSTART:20180512T160000Z
DTEND:20180512T190000Z
DTSTAMP:20180425T140205Z
URL:https://www.mnbeer.com/events/beaver-island-brewing-co-beer-run/
SUMMARY:Beaver Island Brewing Co BEER RUN!
DESCRIPTION:We are the Minnesota Brewery Running Series and we run for beer
 !\n\nJoin us at Beaver Island Brewing Co on Saturday\, May 12th @ 11AM for
  a 5k-ish course that starts and ends at this awesome St Cloud area brewer
 y where beer is brewed with heart\, from the heart of MN!! Weave through t
 he surrounding area at whatever pace you like\, no matter what there’s a
  beer waiting for you at the finish line!\n\nWe are all about being active
 \, having fun and giving back to our local community. Since our inaugural 
 event in 2012\, we have been able to donate over $70\,000 back to local no
 n-profits. This event will add to that tally! +10% of all revenue goes dir
 ectly to local non-profits!\n\nWhat’s included?! All participants receiv
 e a FREE craft brew from the brewery and get to take home a collectors pin
 t glass or seasonal swag item from the Brewery Running Series...plus swag\
 , goodies and giveaways from our partners and sponsors + chance to win swe
 et door prizes and more free beer! Your registration also earns you an inv
 itation to stick around and enjoy the day’s entertainment: live music\, 
 food offerings\, local vendors\, and fun with our sponsors.\n\nRegistratio
 n is limited\, so sign up today! https://www.eventsprout.com/event/beaveri
 sland
ATTACH;FMTTYPE=image/jpeg:https://www.mnbeer.com/wp-content/uploads/121918
 37_912542098841881_6677965585015043568_n-3.png
CATEGORIES:Breweries
LOCATION:Beaver Island Brewing Company\, 216 6th Ave South\, St Cloud\, MN\
 , United States
GEO:45.5584245;-94.156923
X-APPLE-STRUCTURED-LOCATION;VALUE=URI;X-ADDRESS=216 6th Ave South\, St Clou
 d\, MN\, United States;X-APPLE-RADIUS=100;X-TITLE=Beaver Island Brewing Co
 mpany:geo:45.5584245,-94.156923
END:VEVENT
END:VCALENDAR