BEGIN:VCALENDAR
VERSION:2.0
PRODID:-//wp-events-plugin.com//7.2.3.1//EN
BEGIN:VEVENT
UID:793@mnbeer.com
DTSTART:20140911T230000Z
DTEND:20140912T013000Z
DTSTAMP:20140808T191421Z
URL:https://www.mnbeer.com/events/beer-and-wine-tasting/
SUMMARY:Beer and Wine Tasting
DESCRIPTION:Join Wishes &amp\; More® for an evening of craft beer\, delici
 ous wines and food pairings! Tom Reid’s Hockey City Pub in St. Paul is t
 eaming up with a handful of great craft breweries &amp\; wineries from acr
 oss the country for a night of entertainment and fundraising to benefit th
 e children and families of Wishes &amp\; More.\n\nThursday\, September 11\
 , 2014 6-8:30pm\nTom Reid’s Hockey City Pub\, Saint Paul\n\nHosted by: T
 om Reid — Minnesota Wild Radio Announcer &amp\; Former North Stars Playe
 r\nParticipating Breweries: TBD\n\nAdvance Tickets—$35 At the door—$50
 \nTicket prices include: Beer &amp\; Wine Tastings and Food Pairings\n\nDr
 awings &amp\; Auctions held throughout the night\nMust be 21 + to register
  and attend\nSemi-Casual Attire
ATTACH;FMTTYPE=image/jpeg:https://www.mnbeer.com/wp-content/uploads/beerwi
 ne.jpg
CATEGORIES:Tasting
LOCATION:Tom Reid's Hockey City Pub\, 258 7th Street W.\, St. Paul\, MN\, 5
 5102\, United States
GEO:44.9424713;-93.10477709999998
X-APPLE-STRUCTURED-LOCATION;VALUE=URI;X-ADDRESS=258 7th Street W.\, St. Pau
 l\, MN\, 55102\, United States;X-APPLE-RADIUS=100;X-TITLE=Tom Reid's Hocke
 y City Pub:geo:44.9424713,-93.10477709999998
END:VEVENT
END:VCALENDAR