BEGIN:VCALENDAR
VERSION:2.0
PRODID:-//wp-events-plugin.com//7.2.3.1//EN
BEGIN:VEVENT
UID:770@mnbeer.com
DTSTART:20140802T170000Z
DTEND:20140803T030000Z
DTSTAMP:20140730T164733Z
URL:https://www.mnbeer.com/events/beer-carnival-american-sky-brewing/
SUMMARY:Beer Carnival\, American Sky Brewing
DESCRIPTION:BEER CARNIVAL ~ CELEBRATING AMERICAN SKY’S 2ND ANNIVERSARY\n\
 nSATURDAY\, AUGUST 2ND FROM 12-10PM AT THE HANGAR\; AMERICAN SKY’S TAPRO
 OM\n\nCARNIVAL GAMES &amp\; CONCESSIONS\, FOOD TRUCK\, LIVE MUSIC\, 2ND SI
 NGLE ENGINE SERIES RELEASE\; OPERATION BERLIN-BERLINER WEISSE 750ML\, COMM
 EMORATIVE GROWLERS &amp\; ANNIVERSARY T-SHIRTS FOR SALE\n\n12-6PM: CARNIVA
 L GAMES INCLUDING A DUNK TANK &amp\; PHOTO BOOTH\, PRIZES WILL BE AWARDED1
 2-\n\n12-8PM: CARNIVAL CONCESSIONS\n\n12-10PM: FOOD PROVIDED BY SANDY’S 
 FOOD TRUCK AND GRILLE\n\n12-10PM: LIVE MUSIC ALL DAY BY:\n\n12-2PM KEN VAL
 DEZ\n\n3-6PM TOMMY  BENTZ BAND\n\n7-10PM THE CHINWAGGERS\n\nhttps://www.f
 acebook.com/events/630336950406630/
ATTACH;FMTTYPE=image/jpeg:https://www.mnbeer.com/wp-content/uploads/asb.jp
 g
CATEGORIES:Beer Festival,Breweries
LOCATION:American Sky Beer\, 1510 Swasy Street\, Hudson\, WI\, United State
 s
GEO:44.9552888;-92.73863219999998
X-APPLE-STRUCTURED-LOCATION;VALUE=URI;X-ADDRESS=1510 Swasy Street\, Hudson\
 , WI\, United States;X-APPLE-RADIUS=100;X-TITLE=American Sky Beer:geo:44.9
 552888,-92.73863219999998
END:VEVENT
END:VCALENDAR