BEGIN:VCALENDAR
VERSION:2.0
PRODID:-//wp-events-plugin.com//7.2.3.1//EN
BEGIN:VEVENT
UID:3266@mnbeer.com
DTSTART:20180928T230000Z
DTEND:20180929T010000Z
DTSTAMP:20180910T180603Z
URL:https://www.mnbeer.com/events/beer-in-the-valley/
SUMMARY:Beer in the Valley
DESCRIPTION:Join us for Beer in the Valley!\n\nFriday Sep 28th 6pm - 8pm\nA
 pple Valley Liquor #3\n5470 157th St W\nApple Valley MN 55337\n\n$5.00 adm
 ission 21+\nStop in to Sample Craft Beers and Ciders \nDiscounts &amp\; fu
 n for all!\nMore info to come at https://twitter.com/avliquor
CATEGORIES:Beer Festival,Beer Stores,Tasting
LOCATION:Apple Valley Liquor #3\, 5470 157th St W\, Apple Valley\, MN\, 551
 24\, United States
GEO:44.7206945;-93.17616169999997
X-APPLE-STRUCTURED-LOCATION;VALUE=URI;X-ADDRESS=5470 157th St W\, Apple Val
 ley\, MN\, 55124\, United States;X-APPLE-RADIUS=100;X-TITLE=Apple Valley L
 iquor #3:geo:44.7206945,-93.17616169999997
END:VEVENT
END:VCALENDAR