BEGIN:VCALENDAR
VERSION:2.0
PRODID:-//wp-events-plugin.com//7.2.3.1//EN
BEGIN:VEVENT
UID:3432@mnbeer.com
DTSTART:20190216T160000Z
DTEND:20190216T200000Z
DTSTAMP:20190204T151937Z
URL:https://www.mnbeer.com/events/beer-run-ditch-or-hitch-0-5k-winter-beer
 -dash-part-of-the-2019-mn-brewery-running-series/
SUMMARY:Beer Run - Ditch or Hitch 0.5k Winter Beer Dash - Part of the 2019 
 MN Brewery Running Series
DESCRIPTION:We are the Minnesota Brewery Running Series and we run for beer
 !\n\nJoin us for a 0.5k Beer Dash between Fulton Brewing Taproom and Inbou
 nd BrewCo on Saturday Feb 16th @ 11AM! DITCH your partner or friends as yo
 u dash for beer\, or HITCH up with someone new to keep warm during this fr
 igid winter event! Registrants will gather at one of the two breweries inv
 olved\, then a 11am will officially DASH to the finishline located at the 
 second of the two breweries involved. Go at your own pace....this is a zer
 o-point-five kilometor (0.5k) event...just a few blocks!! No matter what t
 here’s a beer waiting for you at both breweries!\n\nWhat’s included?! 
 All participants recieved:\n\nTWO (2) free beers included\nA Brewery Runni
 ng Series swag item like a pint glass\, bottle opener or another fun limit
 ed time only item\nThe 0.5k dash experience which will include Music\, Foo
 d trucks and FUN!\nAND\, a commerative winter accessory custom to this HIT
 CH OR DITCH event!\nWe are all about being active\, having fun and giving 
 back to our local community. +10% of your registration dollars goes direct
 ly to local non-profits!\n\nRegistration is limited\, so sign up today!\n\
 nImportant details:\n\nThis is an open course\, meaning roads will NOT be 
 closed. You are responsible for obeying all traffic laws and regulations.\
 nWe create each route to start and end at the brewery and to show off the 
 surrounding neighborhood. We will have volunteers along the way to help yo
 u know where to go.\nYou must bring a valid ID or driver’s license. You 
 do not need to be 21 to enjoy the event\, but you must be 21 to enjoy the 
 beer. Please drink responsibly. (Registered\, underage participants will r
 eceive a token for a FREE non-alcoholic beverage)\nWe run rain or shine! P
 lease dress appropriately for the weather.\nThere will not be a bag check\
 ; please plan accordingly.\nThe fun-run starts at 11am. Plan to arrive abo
 ut 30 minutes prior to check-in and check out our partners\, sponsors and 
 pre-race activities. Don’t forget some extra $$$. In addition to your FR
 EE beer and swag there will be merchandise for sale\, food\, and plenty mo
 re beer!\n\nThere is nearby street parking and parking lots/ramps. We alwa
 ys encourage carpooling and safe\, designated drivers.\n\nLook for our inf
 ormational email closer to the event. We will remind you of these details 
 and share anything else you might need to know.\n\n\nCheers to beers!
ATTACH;FMTTYPE=image/jpeg:https://www.mnbeer.com/wp-content/uploads/ditch-
 or-hitch_narrow.jpg
CATEGORIES:Beer Festival,Breweries,Charity,Misc.,Music
LOCATION:Fulton Brewery\, 414 N 6th Ave\, Minneapolis\, MN\, 55401\, United
  States
X-APPLE-STRUCTURED-LOCATION;VALUE=URI;X-ADDRESS=414 N 6th Ave\, Minneapolis
 \, MN\, 55401\, United States;X-APPLE-RADIUS=100;X-TITLE=Fulton Brewery:ge
 o:0,0
END:VEVENT
END:VCALENDAR