BEGIN:VCALENDAR
VERSION:2.0
PRODID:-//wp-events-plugin.com//7.2.3.1//EN
BEGIN:VEVENT
UID:3227@mnbeer.com
DTSTART:20180620T170000Z
DTEND:20180620T180000Z
DTSTAMP:20180518T125942Z
URL:https://www.mnbeer.com/events/beginner-winemaking-vinification-vine-to
 -wine-2/
SUMMARY:Beginner Winemaking\, Vinification: Vine to Wine
DESCRIPTION:You don’t need a fancy pedigree to make great wine! With our 
 help\, anyone can become a Master Vintner and learn how to create exceptio
 nal wine from start to finish. Master the art of winemaking first-hand as 
 our winemaking experts guide you through the steps\, from blending juice\,
  yeast and fruit\, to bottling the finished product. Plus\, take 15% off e
 verything you need to craft your own wine at home when you join us in this
  FUN\, hands-on class.\n\nCourse Topics Include:\n\nWine basics: what is w
 ine\, wine terminology\, wine history\nWinemaking methods: “from scratch
 ”\, fruit wines\, kit wines\nDemonstration of winemaking kit\nOverview o
 f winemaking equipment and ingredients\n\nSign Up Here:\nhttps://www.event
 brite.com/e/beginner-winemaking-vinification-vine-to-wine-tickets-44603552
 426?aff=mnbeer
CATEGORIES:Homebrew
LOCATION:Northern Brewer - St. Paul\, 1150 Grand Ave\, St. Paul\, Minnesota
 \, 55105\, United States
GEO:44.9333345;-93.34125289999997
X-APPLE-STRUCTURED-LOCATION;VALUE=URI;X-ADDRESS=1150 Grand Ave\, St. Paul\,
  Minnesota\, 55105\, United States;X-APPLE-RADIUS=100;X-TITLE=Northern Bre
 wer - St. Paul:geo:44.9333345,-93.34125289999997
END:VEVENT
END:VCALENDAR