BEGIN:VCALENDAR
VERSION:2.0
PRODID:-//wp-events-plugin.com//7.2.3.1//EN
BEGIN:VEVENT
UID:1005@mnbeer.com
DTSTART:20150211T220000Z
DTEND:20150212T010000Z
DTSTAMP:20150103T053737Z
URL:https://www.mnbeer.com/events/bells-slammin-stout-night-at-the-happy-g
 nome/
SUMMARY:Bells Slammin Stout Night-At The Happy Gnome
DESCRIPTION:Bells Slammin' Stout Night-5pm\nFeaturing Bells Hopslam\, Java 
 Stout\, Expedition Stout\, and more amazing stout from the phenomenal Kala
 mazoo\, MI brewery. 
CATEGORIES:Beer Release
LOCATION:The Happy Gnome\, 498 Selby Avenue\, St. Paul\, MN\, United States
GEO:44.946408;-93.12093649999997
X-APPLE-STRUCTURED-LOCATION;VALUE=URI;X-ADDRESS=498 Selby Avenue\, St. Paul
 \, MN\, United States;X-APPLE-RADIUS=100;X-TITLE=The Happy Gnome:geo:44.94
 6408,-93.12093649999997
END:VEVENT
END:VCALENDAR