BEGIN:VCALENDAR
VERSION:2.0
PRODID:-//wp-events-plugin.com//7.2.3.1//EN
BEGIN:VEVENT
UID:796@mnbeer.com
DTSTART:20140906T190000Z
DTEND:20140907T010000Z
DTSTAMP:20140825T023512Z
URL:https://www.mnbeer.com/events/bemidji-brewing-beerthday-bash/
SUMMARY:Bemidji Brewing Beerthday Bash
DESCRIPTION:Bemidji Brewing Company invites you to its Taproom to celebrate
  “One Year of Bemidji Beer” at its “Beerthday Bash” on Saturday\, 
 September 6.\n\nWith a full year brewing fresh beer at its downtown locati
 on\, Bemidji Brewing is hosting a party with all your favorite birthday pa
 rty elements: cake and ice cream\, pizza\, games and prizes\, and of cours
 e\, beer! This event is family-friendly and features FREE treats from Big 
 River Scoop from 5-7pm.\n\nCheers to a year of Bemidji Beer!
CATEGORIES:Breweries
LOCATION:Bemidji Brewing Company\, 401 Beltrami Ave. NW\, Bemidji\, MN\, 56
 601\, United States
GEO:47.4715932;-94.88116639999998
X-APPLE-STRUCTURED-LOCATION;VALUE=URI;X-ADDRESS=401 Beltrami Ave. NW\, Bemi
 dji\, MN\, 56601\, United States;X-APPLE-RADIUS=100;X-TITLE=Bemidji Brewin
 g Company:geo:47.4715932,-94.88116639999998
END:VEVENT
END:VCALENDAR