BEGIN:VCALENDAR
VERSION:2.0
PRODID:-//wp-events-plugin.com//7.2.3.1//EN
BEGIN:VEVENT
UID:719@mnbeer.com
DTSTART:20140529T210000Z
DTEND:20140529T230000Z
DTSTAMP:20140527T184132Z
URL:https://www.mnbeer.com/events/bent-brewstillery-1st-sour-release-at-wa
 rd-6/
SUMMARY:Bent Brewstillery 1st Sour Release at Ward 6!
DESCRIPTION:We are releasing the first in our Sour Beer Series with an even
 t Ward 6 this Thursday at 4pm. \n\nWe're calling this one Acclivity. It's 
 a rosé Berliner Weiße\, with flavors of sour lemons and spicy phenols - 
 and wow it's refreshing. You're not going to want to miss this one. Meet a
 nd say Hi to Owner Bartley Blume and Brewer Kristen England!
CATEGORIES:Beer Release
LOCATION:Ward 6\, 858 Payne AVE\, St. Paul\, MN\, 55130\, United States
GEO:44.967156;-93.07320500000003
X-APPLE-STRUCTURED-LOCATION;VALUE=URI;X-ADDRESS=858 Payne AVE\, St. Paul\, 
 MN\, 55130\, United States;X-APPLE-RADIUS=100;X-TITLE=Ward 6:geo:44.967156
 ,-93.07320500000003
END:VEVENT
END:VCALENDAR