BEGIN:VCALENDAR
VERSION:2.0
PRODID:-//wp-events-plugin.com//7.2.3.1//EN
BEGIN:VEVENT
UID:3306@mnbeer.com
DTSTART:20190112T170000Z
DTEND:20190113T045900Z
DTSTAMP:20190104T201453Z
URL:https://www.mnbeer.com/events/bent-brewstillery-inaugural-winter-luau/
SUMMARY:Bent Brewstillery Inaugural Winter Luau
DESCRIPTION:Menu includes Kalua Pork\, King’s Hawaiian Spam Sandwich\, Ma
 ngo Slaw\, Grilled Pineapple\, Spamaroni &amp\; Cheese\nKalua pork provide
 d by our friends at University of Minnesota’s Meat Science Lab\nA new co
 cktail we’re mixing for the Winter Luau is Sriracha Sunrise with FlameBr
 inger Rum. Also\, $2 pint cans of The Great Sweat!\nfire eaters and flame 
 dancers at 6pm\nCome get your TIKI ON!
CATEGORIES:Breweries
LOCATION:Bent Brewstillery\, 1744 Terrace Drive\, Roseville\, MN\, 55113\, 
 United States
GEO:45.0256835;-93.17472379999998
X-APPLE-STRUCTURED-LOCATION;VALUE=URI;X-ADDRESS=1744 Terrace Drive\, Rosevi
 lle\, MN\, 55113\, United States;X-APPLE-RADIUS=100;X-TITLE=Bent Brewstill
 ery:geo:45.0256835,-93.17472379999998
END:VEVENT
END:VCALENDAR