BEGIN:VCALENDAR
VERSION:2.0
PRODID:-//wp-events-plugin.com//7.2.3.1//EN
BEGIN:VEVENT
UID:794@mnbeer.com
DTSTART:20140821T190000Z
DTEND:20140822T030000Z
DTSTAMP:20140818T042424Z
URL:https://www.mnbeer.com/events/bent-brewstillery-taproom-opening/
SUMMARY:Bent Brewstillery Taproom Opening!
DESCRIPTION:Bent Brewstillery will be opening to the public August 21st 2-1
 0pm.
CATEGORIES:Breweries
LOCATION:Bent Brewstillery\, 1744 Terrace Drive\, Roseville\, MN\, 55113\, 
 United States
GEO:45.025684;-93.174721
X-APPLE-STRUCTURED-LOCATION;VALUE=URI;X-ADDRESS=1744 Terrace Drive\, Rosevi
 lle\, MN\, 55113\, United States;X-APPLE-RADIUS=100;X-TITLE=Bent Brewstill
 ery:geo:45.025684,-93.174721
END:VEVENT
END:VCALENDAR