BEGIN:VCALENDAR
VERSION:2.0
PRODID:-//wp-events-plugin.com//7.2.3.1//EN
BEGIN:VEVENT
UID:795@mnbeer.com
DTSTART:20140906T000000Z
DTEND:20140906T013000Z
DTSTAMP:20140819T180107Z
URL:https://www.mnbeer.com/events/bent-paddle-brewing-co-seminar/
SUMMARY:Bent Paddle Brewing Co.Seminar
DESCRIPTION:Northgate Liquors is proud to welcome Minnesota's own Colin and
  Laura Mullen from Bent Paddle Brewing\, for their seminar on Recipe Desig
 n and a special Firkin's Sample for everyone to enjoy on Friday September 
 5th from 7pm - 8:30pm. You must be at least 21 or older to attend and ther
 e is a $10 fee to reserve your spot. Upon arrival you will receive a vouch
 er valued at $10 to put towards the purchase of any items sampled during t
 he seminar. If you have any questions\, please call our Blaine location at
  763-754-3231
CATEGORIES:Education
LOCATION:Northgate Liquors\, 12513 Central Ave\, Blaine\, Mn.\, 55434\, ano
 ka\, United States
GEO:45.1978801;-93.23188290000002
X-APPLE-STRUCTURED-LOCATION;VALUE=URI;X-ADDRESS=12513 Central Ave\, Blaine\
 , Mn.\, 55434\, anoka\, United States;X-APPLE-RADIUS=100;X-TITLE=Northgate
  Liquors:geo:45.1978801,-93.23188290000002
END:VEVENT
END:VCALENDAR