BEGIN:VCALENDAR
VERSION:2.0
PRODID:-//wp-events-plugin.com//7.2.3.1//EN
BEGIN:VEVENT
UID:1164@mnbeer.com
DTSTART:20150401T210000Z
DTEND:20150402T043000Z
DTSTAMP:20150326T064611Z
URL:https://www.mnbeer.com/events/bent-paddle-brewing-promo/
SUMMARY:Bent Paddle Brewing Promo
DESCRIPTION:MacKenzie Pub will be tapping four different Bent Paddle Brewin
 g kegs. Those four will be the Venture Pilsner\, Nitro Black Ale\, Harness
  the Winter IPA and the Barrel Aged Double Black!
CATEGORIES:Bars/Restaurants
LOCATION:MacKenzie Pub\, 918 Hennepin Ave\, Minneapolis\, MN\, 55403\, Unit
 ed States
GEO:44.9763346;-93.27766489999999
X-APPLE-STRUCTURED-LOCATION;VALUE=URI;X-ADDRESS=918 Hennepin Ave\, Minneapo
 lis\, MN\, 55403\, United States;X-APPLE-RADIUS=100;X-TITLE=MacKenzie Pub:
 geo:44.9763346,-93.27766489999999
END:VEVENT
END:VCALENDAR