BEGIN:VCALENDAR
VERSION:2.0
PRODID:-//wp-events-plugin.com//7.2.3.1//EN
BEGIN:VEVENT
UID:3293@mnbeer.com
DTSTART:20181205T230000Z
DTEND:20181206T030000Z
DTSTAMP:20181102T131155Z
URL:https://www.mnbeer.com/events/best-of-minnesota-party/
SUMMARY:Best of Minnesota Party
DESCRIPTION:From spectacular landmarks to talented artists and creators\, w
 e are proud to celebrate our local culture at the Best of Minnesota Party.
  Join Minnesota Monthly for an evening of critically-acclaimed food\, awar
 d-winning wine\, craft beer and cocktails\, games of chance\, and fabulous
  prizes\, all presented by companies that capture the spirit of Minnesota.
CATEGORIES:Bars/Restaurants,Foodie,Tasting
LOCATION:Aria\, 105 N 1st St\, Minneapolis\, MN\, 55401\, United States
GEO:44.9846282;-93.26844240000003
X-APPLE-STRUCTURED-LOCATION;VALUE=URI;X-ADDRESS=105 N 1st St\, Minneapolis\
 , MN\, 55401\, United States;X-APPLE-RADIUS=100;X-TITLE=Aria:geo:44.984628
 2,-93.26844240000003
END:VEVENT
END:VCALENDAR