BEGIN:VCALENDAR
VERSION:2.0
PRODID:-//wp-events-plugin.com//7.2.3.1//EN
BEGIN:VEVENT
UID:3265@mnbeer.com
DTSTART:20180923T190000Z
DTEND:20180923T230000Z
DTSTAMP:20180910T180541Z
URL:https://www.mnbeer.com/events/best-of-the-wurst-2018/
SUMMARY:Best of the Wurst 2018
DESCRIPTION:Best of the Wurst\, a Twin Cities premier food event\, returns 
 September 23 to Sociable Cider Werks in Northeast Minneapolis. From 2-6 p.
 m.\, you can enjoy unique sausage samples from local restaurants\, great b
 eer and cider from Sociable Cider Werks\, live music from Church of Cash a
 nd the crowning of the “Best of the Wurst” determined through Ranked C
 hoice Voting. This year\, we are partnering with August Schell Brewing Com
 pany to bring more local beer to this already tasty event. Join restaurant
 s like The Bungalow Club\, Borough\, Domo Ramen\, Fig + Farro\, France 44 
 Wine &amp\; Spirits\, Kieran’s Irish Pub\, Lake &amp\; Irving\, Lowry Hi
 ll Meats\, Main Street Farmer Eatery\, Red River Kitchen\, Red Stag Supper
 club\, Seward Community Co-op\, Union Kitchen and more for tasty bites of 
 Minnesota’s best sausages. This event benefits FairVote Minnesota\, an o
 rganization dedicated to bringing awareness to Ranked Choice Voting in an 
 effort to create a better democracy. \n\nTicket Information: \nWurst: $25 
 ahead of time ($30 at the door). Includes all you can eat sausage sampling
 s. \n\nBetter: $40 ahead of time ($50 at the door). Includes 2 beer ticket
 s\, all you can eat sausage samplings and gift at the door (post event) 
 — between $5-$25 value. \n\nBest of the Wurst - VIP: $75 ahead of time (
 $90 at the door). VIP ticket holders will receive: Early admission through
  VIP line\, private bar and bathroom access\, all you can drink beer\, all
  you can eat sausage samplings\, “Meat and Greet” with a mystery guest
  and gift at the door (post event) —between $25-$50 value.\n
ATTACH;FMTTYPE=image/jpeg:https://www.mnbeer.com/wp-content/uploads/Bestof
 theWurst-91ccb7e2.jpg
CATEGORIES:Beer Festival
LOCATION:Sociable Cider Werks\, 1500 Fillmore St. NE\, Minneapolis\, MN\, 5
 5413\, Northeast Minneapolis\, United States
GEO:45.0031888;-93.2425412
X-APPLE-STRUCTURED-LOCATION;VALUE=URI;X-ADDRESS=1500 Fillmore St. NE\, Minn
 eapolis\, MN\, 55413\, Northeast Minneapolis\, United States;X-APPLE-RADIU
 S=100;X-TITLE=Sociable Cider Werks:geo:45.0031888,-93.2425412
END:VEVENT
END:VCALENDAR