BEGIN:VCALENDAR
VERSION:2.0
PRODID:-//wp-events-plugin.com//7.2.3.1//EN
BEGIN:VEVENT
UID:763@mnbeer.com
DTSTART:20140802T190000Z
DTEND:20140803T010000Z
DTSTAMP:20140715T195807Z
URL:https://www.mnbeer.com/events/bfd-party/
SUMMARY:BFD Party
DESCRIPTION:Craft beer enthusiasts gather at the 2nd annual BFD Party at LU
 CID Brewing\, Saturday\, August 2\, 2014\, from 2 – 8 pm\, where the “
 Brewer For the Day” homebrewing competition winner is announced.\n\nLUCI
 D Brewing has just closed its “Brewer For the Day” homebrewing competi
 tion and will announce the winner on August 2\, 2014 at the 2nd annual BFD
  Party. The winner of the BFD brews their winning recipe with the LUCID br
 ewing team\, has their beer on tap at LUCID and gets an entry into the PRO
 -AM for the Great American Beer Fest\, the world’s largest beer festival
 .\n\nThe BFD Party is an event for anyone over 21\, craft beer enthusiasts
  as well as homebrewers. Partygoers will enjoy great local bands\, Food Tr
 uck eats\, LUCID beer and games for chances to win Growlers and LUCID swag
 !\n\nTickets can be purchased at www.LUCIDBFD.com. $12 Ticket includes a M
 ug and a beer. $6 Designated Driver ticket includes the commemorative mug.
  Non-alcoholic beverages will be available.\n\nGuests are encouraged to br
 ing a lawn chair and have a great time in the open AIR!
ATTACH;FMTTYPE=image/jpeg:https://www.mnbeer.com/wp-content/uploads/bfd-we
 b-logo-white-600x100.png
CATEGORIES:Beer Festival
LOCATION:Lucid Brewing\, 6020 Culligan Way\, Minnetonka\, MN\, 55345\, Unit
 ed States
GEO:44.895218;-93.449725
X-APPLE-STRUCTURED-LOCATION;VALUE=URI;X-ADDRESS=6020 Culligan Way\, Minneto
 nka\, MN\, 55345\, United States;X-APPLE-RADIUS=100;X-TITLE=Lucid Brewing:
 geo:44.895218,-93.449725
END:VEVENT
END:VCALENDAR