BEGIN:VCALENDAR
VERSION:2.0
PRODID:-//wp-events-plugin.com//7.2.3.1//EN
BEGIN:VEVENT
UID:1064@mnbeer.com
DTSTART:20150203T210000Z
DTEND:20150208T040000Z
DTSTAMP:20150128T221723Z
URL:https://www.mnbeer.com/events/big-wood-brewery-1st-anniversary-taproom
 -party-2/
SUMMARY:Big Wood Brewery 1st Anniversary Taproom Party
DESCRIPTION:The Big Wood Taproom is turning 1! We will have a new beer rele
 ase every Tuesday\, starting January 13th leading up to our Taproom Annive
 rsary Week - February 3rd. The week of February 3rd we will have Tree Chug
 gers growler giveaways\, food Tues-Fri in the taproom\, Game Night\, firki
 n tapping and a special beer release night. \n\nTues: Hard Wood Tree Chugg
 ers Anniversary Growler Giveaway – drawing at 8pm + first 10 Tree Chugge
 rs receive a free pint\nWed: Hard Wood Tree Chuggers Anniversary Growler G
 iveaway – drawing at 8pm\nThurs: Game Night &amp\; Natedogs from 4-8pm\n
 •	Beat the BW guys in Table Tennis &amp\; win a free pint. Starts at 4pm
 . \nFri: special firkin tapping at 3pm\, Natedogs from 4-8pm &amp\; a spec
 ial drawing at 7pm!\nSat: Random tours from noon-5pm\n
ATTACH;FMTTYPE=image/jpeg:https://www.mnbeer.com/wp-content/uploads/MNBeer
 EventLogo.jpg
CATEGORIES:Breweries,Misc.
LOCATION:Big Wood Brewery\, 2222 4th Street\, White Bear Lake\, MN\, 55110\
 , United States
GEO:45.085098;-93.006760
X-APPLE-STRUCTURED-LOCATION;VALUE=URI;X-ADDRESS=2222 4th Street\, White Bea
 r Lake\, MN\, 55110\, United States;X-APPLE-RADIUS=100;X-TITLE=Big Wood Br
 ewery:geo:45.085098,-93.006760
END:VEVENT
END:VCALENDAR