BEGIN:VCALENDAR
VERSION:2.0
PRODID:-//wp-events-plugin.com//7.2.3.1//EN
BEGIN:VEVENT
UID:678@mnbeer.com
DTSTART:20140529T230000Z
DTEND:20140530T020000Z
DTSTAMP:20140509T164434Z
URL:https://www.mnbeer.com/events/big-wood-craft-beer-dinner/
SUMMARY:Big Wood Craft Beer Dinner
DESCRIPTION:THE GATHERING 6:00pm\nWhite Fish Ceviche\, balsamic caviar\, co
 rn salsa\nWild Rice\, Mushroom &amp\; Leek Croquettes\, tomato jam\nAMIGO 
 GRANDE\, Mexican style lager\n \nDINNER 7:00pm\nPorcini Blackened Artic Ch
 ar\,\nsun choke puree\, jack pine gastric\nJACK SAVAGE\, american pale ale
 \n~\nBad Axe Brined Quail\, mesquite grilled\nbraised kale\, lingonberry c
 ompote\, hazelnuts\nBAD AXE\, imperial IPA\n~\nProsciutto Wrapped Scallop\
 ,\nshaved honeydew melon\, arugula\, minted honey IPA vinaigrette\nBARK BI
 TE\, india pale ale\n~\nFarm House Ale Braised Lamb Fritter\,\nchevre pole
 nta\, roast spring carrots\, sugar snap peas\,\nblackberry reduction\nFIRE
 LAKE BLACK CAP FARMHOUSE ALE\n~\nMorning Wood Chocolate Sticky Toffee Pudd
 ing\,\nespresso anglaise\, chocolate-covered coffee beans\nMORNING WOOD\, 
 coffee stout\n\n$60 plus tax and gratuity\n\nPlease call 952-851-4040 to m
 ake reservations.  \nwww.FireLakeRestaurant.com\n
ATTACH;FMTTYPE=image/jpeg:https://www.mnbeer.com/wp-content/uploads/big-wo
 od-craft-brewery-logosmall.jpg
CATEGORIES:Beer Dinner
LOCATION:FireLake Grill House and Cocktail Bar\, 2100 Killebrew Drive\, Blo
 omington\, Minnesota\, 55425\, United States
GEO:44.8529109;-93.2417562
X-APPLE-STRUCTURED-LOCATION;VALUE=URI;X-ADDRESS=2100 Killebrew Drive\, Bloo
 mington\, Minnesota\, 55425\, United States;X-APPLE-RADIUS=100;X-TITLE=Fir
 eLake Grill House and Cocktail Bar:geo:44.8529109,-93.2417562
END:VEVENT
END:VCALENDAR