BEGIN:VCALENDAR
VERSION:2.0
PRODID:-//wp-events-plugin.com//7.2.3.1//EN
BEGIN:VEVENT
UID:3189@mnbeer.com
DTSTART:20181207T223000Z
DTEND:20181208T003000Z
DTSTAMP:20180514T062938Z
URL:https://www.mnbeer.com/events/big-wood-tour-with-the-brewers-2018-12-0
 7/
SUMMARY:Big Wood Tour with the Brewers
DESCRIPTION:It's exactly as it sounds! Come have a beer and chat with our b
 rewers as they show you around our facility.\n\nThe tour is whatever we ma
 ke it — if you want to talk about beer\, dogs\, the process (perhaps you
 're a home brewer)\, or the weather\, then that's what we'll do! We are pr
 etty flexible. Each tour we have done has been different and fun.\n\nTours
  are conducted on the first Friday of each month from 5:30 - 7:30 pm and e
 veryone age 21+ will receive a FREE beer. Space is limited and reservation
 s are required: https://bigwoodtours.eventbrite.com/
ATTACH;FMTTYPE=image/jpeg:https://www.mnbeer.com/wp-content/uploads/tour-t
 yandkarsten.jpg
CATEGORIES:Breweries,Tours
LOCATION:Big Wood Brewery\, 2222 4th Street\, White Bear Lake\, Minnesota\,
  55110\, United States
GEO:45.0853084;-93.00678719999996
X-APPLE-STRUCTURED-LOCATION;VALUE=URI;X-ADDRESS=2222 4th Street\, White Bea
 r Lake\, Minnesota\, 55110\, United States;X-APPLE-RADIUS=100;X-TITLE=Big 
 Wood Brewery:geo:45.0853084,-93.00678719999996
END:VEVENT
END:VCALENDAR